BEGIN:VCALENDAR
VERSION:2.0
PRODID:-//Strathroy Lions Club - ECPv6.15.20//NONSGML v1.0//EN
CALSCALE:GREGORIAN
METHOD:PUBLISH
X-WR-CALNAME:Strathroy Lions Club
X-ORIGINAL-URL:https://strathroylions.com
X-WR-CALDESC:Events for Strathroy Lions Club
REFRESH-INTERVAL;VALUE=DURATION:PT1H
X-Robots-Tag:noindex
X-PUBLISHED-TTL:PT1H
BEGIN:VTIMEZONE
TZID:America/Toronto
BEGIN:DAYLIGHT
TZOFFSETFROM:-0500
TZOFFSETTO:-0400
TZNAME:EDT
DTSTART:20250309T070000
END:DAYLIGHT
BEGIN:STANDARD
TZOFFSETFROM:-0400
TZOFFSETTO:-0500
TZNAME:EST
DTSTART:20251102T060000
END:STANDARD
BEGIN:DAYLIGHT
TZOFFSETFROM:-0500
TZOFFSETTO:-0400
TZNAME:EDT
DTSTART:20260308T070000
END:DAYLIGHT
BEGIN:STANDARD
TZOFFSETFROM:-0400
TZOFFSETTO:-0500
TZNAME:EST
DTSTART:20261101T060000
END:STANDARD
BEGIN:DAYLIGHT
TZOFFSETFROM:-0500
TZOFFSETTO:-0400
TZNAME:EDT
DTSTART:20270314T070000
END:DAYLIGHT
BEGIN:STANDARD
TZOFFSETFROM:-0400
TZOFFSETTO:-0500
TZNAME:EST
DTSTART:20271107T060000
END:STANDARD
END:VTIMEZONE
BEGIN:VEVENT
DTSTART;TZID=America/Toronto:20260409T183000
DTEND;TZID=America/Toronto:20260507T210000
DTSTAMP:20260424T100814
CREATED:20251201T180543Z
LAST-MODIFIED:20260309T195439Z
UID:6458-1775759400-1778187600@strathroylions.com
SUMMARY:Strathroy Lions Club dinner meeting second Thursday of each month
DESCRIPTION:
URL:https://strathroylions.com/event/strathroy-lions-club-dinner-meeting-second-thursday-of-each-month-2/
LOCATION:STRATHROY LIONS HALL
ATTACH;FMTTYPE=image/png:https://strathroylions.com/wp-content/uploads/2025/11/we-serve-e1764109546544.png
END:VEVENT
BEGIN:VEVENT
DTSTART;TZID=America/Toronto:20260502T100000
DTEND;TZID=America/Toronto:20260502T110000
DTSTAMP:20260424T100814
CREATED:20260327T164324Z
LAST-MODIFIED:20260402T143614Z
UID:6555-1777716000-1777719600@strathroylions.com
SUMMARY:Strathroy Lions Semi-Annual road cleanup May 2\, 2026
DESCRIPTION:The Strathroy Lions Club are responsible for roadside clean-up along the stretch of McEvoy Rd\, from Hickory to Glengyle\, and along the stretch of Glengyle Rd\, from McEvoy to the tracks by York.
URL:https://strathroylions.com/event/strathroy-lions-semi-annual-road-cleanup-may-2-2026/
ATTACH;FMTTYPE=image/jpeg:https://strathroylions.com/wp-content/uploads/2026/03/roadside-cleanup-fall-2025.jpg
END:VEVENT
BEGIN:VEVENT
DTSTART;TZID=America/Toronto:20260506T070000
DTEND;TZID=America/Toronto:20260506T213000
DTSTAMP:20260424T100814
CREATED:20251201T015448Z
LAST-MODIFIED:20260311T143151Z
UID:6446-1778050800-1778103000@strathroylions.com
SUMMARY:FIRST WEDNESDAY OF EVERY MONTH May 6\, 2026 @ 7:00 pm - 9:30 pm CHIP BINGO!
DESCRIPTION:Join us for the  Strathroy Lions Club Monthly Chip Bingo  @ the Strathroy Lions Club Hall – 432 Albert St\, Strathroy! Doors open at 6:00 bingo starts at 7:00.Regular games .25 cents for each card \, 3 for .50Specials .50 for each card \, 3 for 1.00Jackpot 1.00 per cardMoney raised from the Bingos goes directly back into the community.
URL:https://strathroylions.com/event/first-wednesday-of-every-month-january-7-2026-700-pm-930-pm-chip-bingo-december-3-2025/
LOCATION:STRATHROY LIONS HALL
ATTACH;FMTTYPE=image/jpeg:https://strathroylions.com/wp-content/uploads/2025/05/new-bingo-e1751750062223.jpg
END:VEVENT
BEGIN:VEVENT
DTSTART;TZID=America/Toronto:20260514T183000
DTEND;TZID=America/Toronto:20260514T210000
DTSTAMP:20260424T100814
CREATED:20251211T113059Z
LAST-MODIFIED:20260309T200028Z
UID:6243-1778783400-1778792400@strathroylions.com
SUMMARY:Strathroy Lions Club - Dinner meeting Second Thursday of the month
DESCRIPTION:
URL:https://strathroylions.com/event/strathroy-lions-club-dinner-meeting-second-thursday-of-the-month/
LOCATION:STRATHROY LIONS HALL
ATTACH;FMTTYPE=image/png:https://strathroylions.com/wp-content/uploads/2025/11/we-serve-e1764109546544.png
END:VEVENT
BEGIN:VEVENT
DTSTART;TZID=America/Toronto:20260528T183000
DTEND;TZID=America/Toronto:20260528T210000
DTSTAMP:20260424T100814
CREATED:20251201T181159Z
LAST-MODIFIED:20260309T195749Z
UID:6462-1779993000-1780002000@strathroylions.com
SUMMARY:Strathroy Lions Club dinner meeting fourth Thursday of each month
DESCRIPTION:
URL:https://strathroylions.com/event/strathroy-lions-club-dinner-meeting-fourth-thursday-of-each-month-2/
LOCATION:STRATHROY LIONS HALL
ATTACH;FMTTYPE=image/jpeg:https://strathroylions.com/wp-content/uploads/2025/11/lion-colour.jpg
END:VEVENT
BEGIN:VEVENT
DTSTART;TZID=America/Toronto:20260531T123000
DTEND;TZID=America/Toronto:20260531T140000
DTSTAMP:20260424T100814
CREATED:20250515T180627Z
LAST-MODIFIED:20260325T143341Z
UID:5964-1780230600-1780236000@strathroylions.com
SUMMARY:Walk for Dog Guides May 31\, 2026
DESCRIPTION: 
URL:https://strathroylions.com/event/40th-anniversary-walk-for-dog-guides/
LOCATION:Alexandra Park Strathroy
ATTACH;FMTTYPE=application/pdf:https://strathroylions.com/wp-content/uploads/2025/05/Pledge-Form-2026.pdf
END:VEVENT
BEGIN:VEVENT
DTSTART;TZID=America/Toronto:20260603T190000
DTEND;TZID=America/Toronto:20260603T210000
DTSTAMP:20260424T100814
CREATED:20260204T120053Z
LAST-MODIFIED:20260309T200405Z
UID:5450-1780513200-1780520400@strathroylions.com
SUMMARY:Chip Bingo - first Wednesday of every month
DESCRIPTION:
URL:https://strathroylions.com/event/chip-bingo-first-wednesday-of-every-month-3/
LOCATION:STRATHROY LIONS HALL
ATTACH;FMTTYPE=image/jpeg:https://strathroylions.com/wp-content/uploads/2018/02/bingo-1-e1695230640409.jpg
END:VEVENT
BEGIN:VEVENT
DTSTART;TZID=America/Toronto:20260708T190000
DTEND;TZID=America/Toronto:20260708T213000
DTSTAMP:20260424T100814
CREATED:20260402T180357Z
LAST-MODIFIED:20260402T180922Z
UID:6578-1783537200-1783546200@strathroylions.com
SUMMARY:NOTE***   CHANGE OF DATE JULY 8\, 2026 @ 7:00 pm - 9:30 pm CHIP BINGO!
DESCRIPTION:Join us for the  Strathroy Lions Club Monthly Chip Bingo  @ the Strathroy Lions Club Hall – 432 Albert St\, Strathroy! Doors open at 6:00 bingo starts at 7:00.Regular games .25 cents for each card \, 3 for .50Specials .50 for each card \, 3 for 1.00Jackpot 1.00 per cardMoney raised from the Bingos goes directly back into the community.
URL:https://strathroylions.com/event/6578/
LOCATION:STRATHROY LIONS HALL
ATTACH;FMTTYPE=image/jpeg:https://strathroylions.com/wp-content/uploads/2025/03/481979098_122113462574759707_3568131105599814790_n.jpg
END:VEVENT
BEGIN:VEVENT
DTSTART;TZID=America/Toronto:20260718T080000
DTEND;TZID=America/Toronto:20260719T010000
DTSTAMP:20260424T100814
CREATED:20260327T163010Z
LAST-MODIFIED:20260327T163101Z
UID:6553-1784361600-1784422800@strathroylions.com
SUMMARY:Strathroy Lions Club presents Summer Dance
DESCRIPTION:
URL:https://strathroylions.com/event/strathroy-lions-club-presents-summer-dance/
LOCATION:STRATHROY LIONS HALL
ATTACH;FMTTYPE=image/jpeg:https://strathroylions.com/wp-content/uploads/2026/03/Dance-Poster-Final.jpg
END:VEVENT
END:VCALENDAR